BEGIN:VCALENDAR
VERSION:2.0
PRODID:-//Nashua Area Radio Society - ECPv6.15.20//NONSGML v1.0//EN
CALSCALE:GREGORIAN
METHOD:PUBLISH
X-ORIGINAL-URL:https://www.n1fd.org
X-WR-CALDESC:Events for Nashua Area Radio Society
REFRESH-INTERVAL;VALUE=DURATION:PT1H
X-Robots-Tag:noindex
X-PUBLISHED-TTL:PT1H
BEGIN:VTIMEZONE
TZID:America/New_York
BEGIN:DAYLIGHT
TZOFFSETFROM:-0500
TZOFFSETTO:-0400
TZNAME:EDT
DTSTART:20220313T070000
END:DAYLIGHT
BEGIN:STANDARD
TZOFFSETFROM:-0400
TZOFFSETTO:-0500
TZNAME:EST
DTSTART:20221106T060000
END:STANDARD
BEGIN:DAYLIGHT
TZOFFSETFROM:-0500
TZOFFSETTO:-0400
TZNAME:EDT
DTSTART:20230312T070000
END:DAYLIGHT
BEGIN:STANDARD
TZOFFSETFROM:-0400
TZOFFSETTO:-0500
TZNAME:EST
DTSTART:20231105T060000
END:STANDARD
BEGIN:DAYLIGHT
TZOFFSETFROM:-0500
TZOFFSETTO:-0400
TZNAME:EDT
DTSTART:20240310T070000
END:DAYLIGHT
BEGIN:STANDARD
TZOFFSETFROM:-0400
TZOFFSETTO:-0500
TZNAME:EST
DTSTART:20241103T060000
END:STANDARD
BEGIN:DAYLIGHT
TZOFFSETFROM:-0500
TZOFFSETTO:-0400
TZNAME:EDT
DTSTART:20250309T070000
END:DAYLIGHT
BEGIN:STANDARD
TZOFFSETFROM:-0400
TZOFFSETTO:-0500
TZNAME:EST
DTSTART:20251102T060000
END:STANDARD
END:VTIMEZONE
BEGIN:VEVENT
DTSTART;TZID=America/New_York:20240204T203000
DTEND;TZID=America/New_York:20240204T210000
DTSTAMP:20260421T213555
CREATED:20210811T173624Z
LAST-MODIFIED:20210811T175221Z
UID:10000687-1707078600-1707080400@www.n1fd.org
SUMMARY:Weekly 10m HF Chat Net
DESCRIPTION:Our club holds a 10m HF Chat Net at 8:30 pm each Sunday on 28.480 MHz using SSB phone mode. All Amateurs are welcome to join in the fun. We post updates about the operation of our HF Chat Net in the On The Air Forum on our website.
URL:https://www.n1fd.org/event/weekly-10m-hf-chat-net/2024-02-04/
LOCATION:On The Air Event\, NH\, United States
CATEGORIES:On Air Event
ATTACH;FMTTYPE=image/jpeg:https://www.n1fd.org/wp-content/uploads/2019/09/Jamey-and-Abby-Operating-as-N1T-on-our-HF-GOTA.jpg
ORGANIZER;CN="Nashua Area Radio Society":MAILTO:activities@n1fd.org
GEO:43.1938516;-71.5723953
END:VEVENT
BEGIN:VEVENT
DTSTART;TZID=America/New_York:20240128T203000
DTEND;TZID=America/New_York:20240128T210000
DTSTAMP:20260421T213555
CREATED:20210811T173624Z
LAST-MODIFIED:20210811T175221Z
UID:10000686-1706473800-1706475600@www.n1fd.org
SUMMARY:Weekly 10m HF Chat Net
DESCRIPTION:Our club holds a 10m HF Chat Net at 8:30 pm each Sunday on 28.480 MHz using SSB phone mode. All Amateurs are welcome to join in the fun. We post updates about the operation of our HF Chat Net in the On The Air Forum on our website.
URL:https://www.n1fd.org/event/weekly-10m-hf-chat-net/2024-01-28/
LOCATION:On The Air Event\, NH\, United States
CATEGORIES:On Air Event
ATTACH;FMTTYPE=image/jpeg:https://www.n1fd.org/wp-content/uploads/2019/09/Jamey-and-Abby-Operating-as-N1T-on-our-HF-GOTA.jpg
ORGANIZER;CN="Nashua Area Radio Society":MAILTO:activities@n1fd.org
GEO:43.1938516;-71.5723953
END:VEVENT
BEGIN:VEVENT
DTSTART;TZID=America/New_York:20240121T203000
DTEND;TZID=America/New_York:20240121T210000
DTSTAMP:20260421T213555
CREATED:20210811T173624Z
LAST-MODIFIED:20210811T175221Z
UID:10000685-1705869000-1705870800@www.n1fd.org
SUMMARY:Weekly 10m HF Chat Net
DESCRIPTION:Our club holds a 10m HF Chat Net at 8:30 pm each Sunday on 28.480 MHz using SSB phone mode. All Amateurs are welcome to join in the fun. We post updates about the operation of our HF Chat Net in the On The Air Forum on our website.
URL:https://www.n1fd.org/event/weekly-10m-hf-chat-net/2024-01-21/
LOCATION:On The Air Event\, NH\, United States
CATEGORIES:On Air Event
ATTACH;FMTTYPE=image/jpeg:https://www.n1fd.org/wp-content/uploads/2019/09/Jamey-and-Abby-Operating-as-N1T-on-our-HF-GOTA.jpg
ORGANIZER;CN="Nashua Area Radio Society":MAILTO:activities@n1fd.org
GEO:43.1938516;-71.5723953
END:VEVENT
BEGIN:VEVENT
DTSTART;TZID=America/New_York:20240114T203000
DTEND;TZID=America/New_York:20240114T210000
DTSTAMP:20260421T213555
CREATED:20210811T173624Z
LAST-MODIFIED:20210811T175221Z
UID:10000684-1705264200-1705266000@www.n1fd.org
SUMMARY:Weekly 10m HF Chat Net
DESCRIPTION:Our club holds a 10m HF Chat Net at 8:30 pm each Sunday on 28.480 MHz using SSB phone mode. All Amateurs are welcome to join in the fun. We post updates about the operation of our HF Chat Net in the On The Air Forum on our website.
URL:https://www.n1fd.org/event/weekly-10m-hf-chat-net/2024-01-14/
LOCATION:On The Air Event\, NH\, United States
CATEGORIES:On Air Event
ATTACH;FMTTYPE=image/jpeg:https://www.n1fd.org/wp-content/uploads/2019/09/Jamey-and-Abby-Operating-as-N1T-on-our-HF-GOTA.jpg
ORGANIZER;CN="Nashua Area Radio Society":MAILTO:activities@n1fd.org
GEO:43.1938516;-71.5723953
END:VEVENT
BEGIN:VEVENT
DTSTART;TZID=America/New_York:20240107T203000
DTEND;TZID=America/New_York:20240107T210000
DTSTAMP:20260421T213555
CREATED:20210811T173624Z
LAST-MODIFIED:20210811T175221Z
UID:10000683-1704659400-1704661200@www.n1fd.org
SUMMARY:Weekly 10m HF Chat Net
DESCRIPTION:Our club holds a 10m HF Chat Net at 8:30 pm each Sunday on 28.480 MHz using SSB phone mode. All Amateurs are welcome to join in the fun. We post updates about the operation of our HF Chat Net in the On The Air Forum on our website.
URL:https://www.n1fd.org/event/weekly-10m-hf-chat-net/2024-01-07/
LOCATION:On The Air Event\, NH\, United States
CATEGORIES:On Air Event
ATTACH;FMTTYPE=image/jpeg:https://www.n1fd.org/wp-content/uploads/2019/09/Jamey-and-Abby-Operating-as-N1T-on-our-HF-GOTA.jpg
ORGANIZER;CN="Nashua Area Radio Society":MAILTO:activities@n1fd.org
GEO:43.1938516;-71.5723953
END:VEVENT
BEGIN:VEVENT
DTSTART;TZID=America/New_York:20231231T203000
DTEND;TZID=America/New_York:20231231T210000
DTSTAMP:20260421T213555
CREATED:20210811T173624Z
LAST-MODIFIED:20210811T175221Z
UID:10000682-1704054600-1704056400@www.n1fd.org
SUMMARY:Weekly 10m HF Chat Net
DESCRIPTION:Our club holds a 10m HF Chat Net at 8:30 pm each Sunday on 28.480 MHz using SSB phone mode. All Amateurs are welcome to join in the fun. We post updates about the operation of our HF Chat Net in the On The Air Forum on our website.
URL:https://www.n1fd.org/event/weekly-10m-hf-chat-net/2023-12-31/
LOCATION:On The Air Event\, NH\, United States
CATEGORIES:On Air Event
ATTACH;FMTTYPE=image/jpeg:https://www.n1fd.org/wp-content/uploads/2019/09/Jamey-and-Abby-Operating-as-N1T-on-our-HF-GOTA.jpg
ORGANIZER;CN="Nashua Area Radio Society":MAILTO:activities@n1fd.org
GEO:43.1938516;-71.5723953
END:VEVENT
BEGIN:VEVENT
DTSTART;TZID=America/New_York:20231224T203000
DTEND;TZID=America/New_York:20231224T210000
DTSTAMP:20260421T213555
CREATED:20210811T173624Z
LAST-MODIFIED:20210811T175221Z
UID:10000681-1703449800-1703451600@www.n1fd.org
SUMMARY:Weekly 10m HF Chat Net
DESCRIPTION:Our club holds a 10m HF Chat Net at 8:30 pm each Sunday on 28.480 MHz using SSB phone mode. All Amateurs are welcome to join in the fun. We post updates about the operation of our HF Chat Net in the On The Air Forum on our website.
URL:https://www.n1fd.org/event/weekly-10m-hf-chat-net/2023-12-24/
LOCATION:On The Air Event\, NH\, United States
CATEGORIES:On Air Event
ATTACH;FMTTYPE=image/jpeg:https://www.n1fd.org/wp-content/uploads/2019/09/Jamey-and-Abby-Operating-as-N1T-on-our-HF-GOTA.jpg
ORGANIZER;CN="Nashua Area Radio Society":MAILTO:activities@n1fd.org
GEO:43.1938516;-71.5723953
END:VEVENT
BEGIN:VEVENT
DTSTART;TZID=America/New_York:20231217T203000
DTEND;TZID=America/New_York:20231217T210000
DTSTAMP:20260421T213555
CREATED:20210811T173624Z
LAST-MODIFIED:20210811T175221Z
UID:10000680-1702845000-1702846800@www.n1fd.org
SUMMARY:Weekly 10m HF Chat Net
DESCRIPTION:Our club holds a 10m HF Chat Net at 8:30 pm each Sunday on 28.480 MHz using SSB phone mode. All Amateurs are welcome to join in the fun. We post updates about the operation of our HF Chat Net in the On The Air Forum on our website.
URL:https://www.n1fd.org/event/weekly-10m-hf-chat-net/2023-12-17/
LOCATION:On The Air Event\, NH\, United States
CATEGORIES:On Air Event
ATTACH;FMTTYPE=image/jpeg:https://www.n1fd.org/wp-content/uploads/2019/09/Jamey-and-Abby-Operating-as-N1T-on-our-HF-GOTA.jpg
ORGANIZER;CN="Nashua Area Radio Society":MAILTO:activities@n1fd.org
GEO:43.1938516;-71.5723953
END:VEVENT
BEGIN:VEVENT
DTSTART;TZID=America/New_York:20231210T203000
DTEND;TZID=America/New_York:20231210T210000
DTSTAMP:20260421T213555
CREATED:20210811T173624Z
LAST-MODIFIED:20210811T175221Z
UID:10000679-1702240200-1702242000@www.n1fd.org
SUMMARY:Weekly 10m HF Chat Net
DESCRIPTION:Our club holds a 10m HF Chat Net at 8:30 pm each Sunday on 28.480 MHz using SSB phone mode. All Amateurs are welcome to join in the fun. We post updates about the operation of our HF Chat Net in the On The Air Forum on our website.
URL:https://www.n1fd.org/event/weekly-10m-hf-chat-net/2023-12-10/
LOCATION:On The Air Event\, NH\, United States
CATEGORIES:On Air Event
ATTACH;FMTTYPE=image/jpeg:https://www.n1fd.org/wp-content/uploads/2019/09/Jamey-and-Abby-Operating-as-N1T-on-our-HF-GOTA.jpg
ORGANIZER;CN="Nashua Area Radio Society":MAILTO:activities@n1fd.org
GEO:43.1938516;-71.5723953
END:VEVENT
BEGIN:VEVENT
DTSTART;TZID=America/New_York:20231203T203000
DTEND;TZID=America/New_York:20231203T210000
DTSTAMP:20260421T213555
CREATED:20210811T173624Z
LAST-MODIFIED:20210811T175221Z
UID:10000678-1701635400-1701637200@www.n1fd.org
SUMMARY:Weekly 10m HF Chat Net
DESCRIPTION:Our club holds a 10m HF Chat Net at 8:30 pm each Sunday on 28.480 MHz using SSB phone mode. All Amateurs are welcome to join in the fun. We post updates about the operation of our HF Chat Net in the On The Air Forum on our website.
URL:https://www.n1fd.org/event/weekly-10m-hf-chat-net/2023-12-03/
LOCATION:On The Air Event\, NH\, United States
CATEGORIES:On Air Event
ATTACH;FMTTYPE=image/jpeg:https://www.n1fd.org/wp-content/uploads/2019/09/Jamey-and-Abby-Operating-as-N1T-on-our-HF-GOTA.jpg
ORGANIZER;CN="Nashua Area Radio Society":MAILTO:activities@n1fd.org
GEO:43.1938516;-71.5723953
END:VEVENT
BEGIN:VEVENT
DTSTART;TZID=America/New_York:20231126T203000
DTEND;TZID=America/New_York:20231126T210000
DTSTAMP:20260421T213555
CREATED:20210811T173624Z
LAST-MODIFIED:20210811T175221Z
UID:10000677-1701030600-1701032400@www.n1fd.org
SUMMARY:Weekly 10m HF Chat Net
DESCRIPTION:Our club holds a 10m HF Chat Net at 8:30 pm each Sunday on 28.480 MHz using SSB phone mode. All Amateurs are welcome to join in the fun. We post updates about the operation of our HF Chat Net in the On The Air Forum on our website.
URL:https://www.n1fd.org/event/weekly-10m-hf-chat-net/2023-11-26/
LOCATION:On The Air Event\, NH\, United States
CATEGORIES:On Air Event
ATTACH;FMTTYPE=image/jpeg:https://www.n1fd.org/wp-content/uploads/2019/09/Jamey-and-Abby-Operating-as-N1T-on-our-HF-GOTA.jpg
ORGANIZER;CN="Nashua Area Radio Society":MAILTO:activities@n1fd.org
GEO:43.1938516;-71.5723953
END:VEVENT
BEGIN:VEVENT
DTSTART;TZID=America/New_York:20231119T203000
DTEND;TZID=America/New_York:20231119T210000
DTSTAMP:20260421T213555
CREATED:20210811T173624Z
LAST-MODIFIED:20210811T175221Z
UID:10000676-1700425800-1700427600@www.n1fd.org
SUMMARY:Weekly 10m HF Chat Net
DESCRIPTION:Our club holds a 10m HF Chat Net at 8:30 pm each Sunday on 28.480 MHz using SSB phone mode. All Amateurs are welcome to join in the fun. We post updates about the operation of our HF Chat Net in the On The Air Forum on our website.
URL:https://www.n1fd.org/event/weekly-10m-hf-chat-net/2023-11-19/
LOCATION:On The Air Event\, NH\, United States
CATEGORIES:On Air Event
ATTACH;FMTTYPE=image/jpeg:https://www.n1fd.org/wp-content/uploads/2019/09/Jamey-and-Abby-Operating-as-N1T-on-our-HF-GOTA.jpg
ORGANIZER;CN="Nashua Area Radio Society":MAILTO:activities@n1fd.org
GEO:43.1938516;-71.5723953
END:VEVENT
BEGIN:VEVENT
DTSTART;TZID=America/New_York:20231112T203000
DTEND;TZID=America/New_York:20231112T210000
DTSTAMP:20260421T213555
CREATED:20210811T173624Z
LAST-MODIFIED:20210811T175221Z
UID:10000675-1699821000-1699822800@www.n1fd.org
SUMMARY:Weekly 10m HF Chat Net
DESCRIPTION:Our club holds a 10m HF Chat Net at 8:30 pm each Sunday on 28.480 MHz using SSB phone mode. All Amateurs are welcome to join in the fun. We post updates about the operation of our HF Chat Net in the On The Air Forum on our website.
URL:https://www.n1fd.org/event/weekly-10m-hf-chat-net/2023-11-12/
LOCATION:On The Air Event\, NH\, United States
CATEGORIES:On Air Event
ATTACH;FMTTYPE=image/jpeg:https://www.n1fd.org/wp-content/uploads/2019/09/Jamey-and-Abby-Operating-as-N1T-on-our-HF-GOTA.jpg
ORGANIZER;CN="Nashua Area Radio Society":MAILTO:activities@n1fd.org
GEO:43.1938516;-71.5723953
END:VEVENT
BEGIN:VEVENT
DTSTART;TZID=America/New_York:20231105T203000
DTEND;TZID=America/New_York:20231105T210000
DTSTAMP:20260421T213555
CREATED:20210811T173624Z
LAST-MODIFIED:20210811T175221Z
UID:10000674-1699216200-1699218000@www.n1fd.org
SUMMARY:Weekly 10m HF Chat Net
DESCRIPTION:Our club holds a 10m HF Chat Net at 8:30 pm each Sunday on 28.480 MHz using SSB phone mode. All Amateurs are welcome to join in the fun. We post updates about the operation of our HF Chat Net in the On The Air Forum on our website.
URL:https://www.n1fd.org/event/weekly-10m-hf-chat-net/2023-11-05/
LOCATION:On The Air Event\, NH\, United States
CATEGORIES:On Air Event
ATTACH;FMTTYPE=image/jpeg:https://www.n1fd.org/wp-content/uploads/2019/09/Jamey-and-Abby-Operating-as-N1T-on-our-HF-GOTA.jpg
ORGANIZER;CN="Nashua Area Radio Society":MAILTO:activities@n1fd.org
GEO:43.1938516;-71.5723953
END:VEVENT
BEGIN:VEVENT
DTSTART;TZID=America/New_York:20231029T203000
DTEND;TZID=America/New_York:20231029T210000
DTSTAMP:20260421T213555
CREATED:20210811T173624Z
LAST-MODIFIED:20210811T175221Z
UID:10000673-1698611400-1698613200@www.n1fd.org
SUMMARY:Weekly 10m HF Chat Net
DESCRIPTION:Our club holds a 10m HF Chat Net at 8:30 pm each Sunday on 28.480 MHz using SSB phone mode. All Amateurs are welcome to join in the fun. We post updates about the operation of our HF Chat Net in the On The Air Forum on our website.
URL:https://www.n1fd.org/event/weekly-10m-hf-chat-net/2023-10-29/
LOCATION:On The Air Event\, NH\, United States
CATEGORIES:On Air Event
ATTACH;FMTTYPE=image/jpeg:https://www.n1fd.org/wp-content/uploads/2019/09/Jamey-and-Abby-Operating-as-N1T-on-our-HF-GOTA.jpg
ORGANIZER;CN="Nashua Area Radio Society":MAILTO:activities@n1fd.org
GEO:43.1938516;-71.5723953
END:VEVENT
BEGIN:VEVENT
DTSTART;TZID=America/New_York:20231022T203000
DTEND;TZID=America/New_York:20231022T210000
DTSTAMP:20260421T213555
CREATED:20210811T173624Z
LAST-MODIFIED:20210811T175221Z
UID:10000672-1698006600-1698008400@www.n1fd.org
SUMMARY:Weekly 10m HF Chat Net
DESCRIPTION:Our club holds a 10m HF Chat Net at 8:30 pm each Sunday on 28.480 MHz using SSB phone mode. All Amateurs are welcome to join in the fun. We post updates about the operation of our HF Chat Net in the On The Air Forum on our website.
URL:https://www.n1fd.org/event/weekly-10m-hf-chat-net/2023-10-22/
LOCATION:On The Air Event\, NH\, United States
CATEGORIES:On Air Event
ATTACH;FMTTYPE=image/jpeg:https://www.n1fd.org/wp-content/uploads/2019/09/Jamey-and-Abby-Operating-as-N1T-on-our-HF-GOTA.jpg
ORGANIZER;CN="Nashua Area Radio Society":MAILTO:activities@n1fd.org
GEO:43.1938516;-71.5723953
END:VEVENT
BEGIN:VEVENT
DTSTART;TZID=America/New_York:20231015T203000
DTEND;TZID=America/New_York:20231015T210000
DTSTAMP:20260421T213555
CREATED:20210811T173624Z
LAST-MODIFIED:20210811T175221Z
UID:10000671-1697401800-1697403600@www.n1fd.org
SUMMARY:Weekly 10m HF Chat Net
DESCRIPTION:Our club holds a 10m HF Chat Net at 8:30 pm each Sunday on 28.480 MHz using SSB phone mode. All Amateurs are welcome to join in the fun. We post updates about the operation of our HF Chat Net in the On The Air Forum on our website.
URL:https://www.n1fd.org/event/weekly-10m-hf-chat-net/2023-10-15/
LOCATION:On The Air Event\, NH\, United States
CATEGORIES:On Air Event
ATTACH;FMTTYPE=image/jpeg:https://www.n1fd.org/wp-content/uploads/2019/09/Jamey-and-Abby-Operating-as-N1T-on-our-HF-GOTA.jpg
ORGANIZER;CN="Nashua Area Radio Society":MAILTO:activities@n1fd.org
GEO:43.1938516;-71.5723953
END:VEVENT
BEGIN:VEVENT
DTSTART;TZID=America/New_York:20231008T203000
DTEND;TZID=America/New_York:20231008T210000
DTSTAMP:20260421T213555
CREATED:20210811T173624Z
LAST-MODIFIED:20210811T175221Z
UID:10000670-1696797000-1696798800@www.n1fd.org
SUMMARY:Weekly 10m HF Chat Net
DESCRIPTION:Our club holds a 10m HF Chat Net at 8:30 pm each Sunday on 28.480 MHz using SSB phone mode. All Amateurs are welcome to join in the fun. We post updates about the operation of our HF Chat Net in the On The Air Forum on our website.
URL:https://www.n1fd.org/event/weekly-10m-hf-chat-net/2023-10-08/
LOCATION:On The Air Event\, NH\, United States
CATEGORIES:On Air Event
ATTACH;FMTTYPE=image/jpeg:https://www.n1fd.org/wp-content/uploads/2019/09/Jamey-and-Abby-Operating-as-N1T-on-our-HF-GOTA.jpg
ORGANIZER;CN="Nashua Area Radio Society":MAILTO:activities@n1fd.org
GEO:43.1938516;-71.5723953
END:VEVENT
BEGIN:VEVENT
DTSTART;TZID=America/New_York:20231001T203000
DTEND;TZID=America/New_York:20231001T210000
DTSTAMP:20260421T213555
CREATED:20210811T173624Z
LAST-MODIFIED:20210811T175221Z
UID:10000669-1696192200-1696194000@www.n1fd.org
SUMMARY:Weekly 10m HF Chat Net
DESCRIPTION:Our club holds a 10m HF Chat Net at 8:30 pm each Sunday on 28.480 MHz using SSB phone mode. All Amateurs are welcome to join in the fun. We post updates about the operation of our HF Chat Net in the On The Air Forum on our website.
URL:https://www.n1fd.org/event/weekly-10m-hf-chat-net/2023-10-01/
LOCATION:On The Air Event\, NH\, United States
CATEGORIES:On Air Event
ATTACH;FMTTYPE=image/jpeg:https://www.n1fd.org/wp-content/uploads/2019/09/Jamey-and-Abby-Operating-as-N1T-on-our-HF-GOTA.jpg
ORGANIZER;CN="Nashua Area Radio Society":MAILTO:activities@n1fd.org
GEO:43.1938516;-71.5723953
END:VEVENT
BEGIN:VEVENT
DTSTART;TZID=America/New_York:20230924T203000
DTEND;TZID=America/New_York:20230924T210000
DTSTAMP:20260421T213555
CREATED:20210811T173624Z
LAST-MODIFIED:20210811T175221Z
UID:10000668-1695587400-1695589200@www.n1fd.org
SUMMARY:Weekly 10m HF Chat Net
DESCRIPTION:Our club holds a 10m HF Chat Net at 8:30 pm each Sunday on 28.480 MHz using SSB phone mode. All Amateurs are welcome to join in the fun. We post updates about the operation of our HF Chat Net in the On The Air Forum on our website.
URL:https://www.n1fd.org/event/weekly-10m-hf-chat-net/2023-09-24/
LOCATION:On The Air Event\, NH\, United States
CATEGORIES:On Air Event
ATTACH;FMTTYPE=image/jpeg:https://www.n1fd.org/wp-content/uploads/2019/09/Jamey-and-Abby-Operating-as-N1T-on-our-HF-GOTA.jpg
ORGANIZER;CN="Nashua Area Radio Society":MAILTO:activities@n1fd.org
GEO:43.1938516;-71.5723953
END:VEVENT
BEGIN:VEVENT
DTSTART;TZID=America/New_York:20230917T203000
DTEND;TZID=America/New_York:20230917T210000
DTSTAMP:20260421T213555
CREATED:20210811T173624Z
LAST-MODIFIED:20210811T175221Z
UID:10000667-1694982600-1694984400@www.n1fd.org
SUMMARY:Weekly 10m HF Chat Net
DESCRIPTION:Our club holds a 10m HF Chat Net at 8:30 pm each Sunday on 28.480 MHz using SSB phone mode. All Amateurs are welcome to join in the fun. We post updates about the operation of our HF Chat Net in the On The Air Forum on our website.
URL:https://www.n1fd.org/event/weekly-10m-hf-chat-net/2023-09-17/
LOCATION:On The Air Event\, NH\, United States
CATEGORIES:On Air Event
ATTACH;FMTTYPE=image/jpeg:https://www.n1fd.org/wp-content/uploads/2019/09/Jamey-and-Abby-Operating-as-N1T-on-our-HF-GOTA.jpg
ORGANIZER;CN="Nashua Area Radio Society":MAILTO:activities@n1fd.org
GEO:43.1938516;-71.5723953
END:VEVENT
BEGIN:VEVENT
DTSTART;TZID=America/New_York:20230910T203000
DTEND;TZID=America/New_York:20230910T210000
DTSTAMP:20260421T213555
CREATED:20210811T173624Z
LAST-MODIFIED:20210811T175221Z
UID:10000666-1694377800-1694379600@www.n1fd.org
SUMMARY:Weekly 10m HF Chat Net
DESCRIPTION:Our club holds a 10m HF Chat Net at 8:30 pm each Sunday on 28.480 MHz using SSB phone mode. All Amateurs are welcome to join in the fun. We post updates about the operation of our HF Chat Net in the On The Air Forum on our website.
URL:https://www.n1fd.org/event/weekly-10m-hf-chat-net/2023-09-10/
LOCATION:On The Air Event\, NH\, United States
CATEGORIES:On Air Event
ATTACH;FMTTYPE=image/jpeg:https://www.n1fd.org/wp-content/uploads/2019/09/Jamey-and-Abby-Operating-as-N1T-on-our-HF-GOTA.jpg
ORGANIZER;CN="Nashua Area Radio Society":MAILTO:activities@n1fd.org
GEO:43.1938516;-71.5723953
END:VEVENT
BEGIN:VEVENT
DTSTART;TZID=America/New_York:20230903T203000
DTEND;TZID=America/New_York:20230903T210000
DTSTAMP:20260421T213555
CREATED:20210811T173624Z
LAST-MODIFIED:20210811T175221Z
UID:10000665-1693773000-1693774800@www.n1fd.org
SUMMARY:Weekly 10m HF Chat Net
DESCRIPTION:Our club holds a 10m HF Chat Net at 8:30 pm each Sunday on 28.480 MHz using SSB phone mode. All Amateurs are welcome to join in the fun. We post updates about the operation of our HF Chat Net in the On The Air Forum on our website.
URL:https://www.n1fd.org/event/weekly-10m-hf-chat-net/2023-09-03/
LOCATION:On The Air Event\, NH\, United States
CATEGORIES:On Air Event
ATTACH;FMTTYPE=image/jpeg:https://www.n1fd.org/wp-content/uploads/2019/09/Jamey-and-Abby-Operating-as-N1T-on-our-HF-GOTA.jpg
ORGANIZER;CN="Nashua Area Radio Society":MAILTO:activities@n1fd.org
GEO:43.1938516;-71.5723953
END:VEVENT
BEGIN:VEVENT
DTSTART;TZID=America/New_York:20230827T203000
DTEND;TZID=America/New_York:20230827T210000
DTSTAMP:20260421T213555
CREATED:20210811T173624Z
LAST-MODIFIED:20210811T175221Z
UID:10000664-1693168200-1693170000@www.n1fd.org
SUMMARY:Weekly 10m HF Chat Net
DESCRIPTION:Our club holds a 10m HF Chat Net at 8:30 pm each Sunday on 28.480 MHz using SSB phone mode. All Amateurs are welcome to join in the fun. We post updates about the operation of our HF Chat Net in the On The Air Forum on our website.
URL:https://www.n1fd.org/event/weekly-10m-hf-chat-net/2023-08-27/
LOCATION:On The Air Event\, NH\, United States
CATEGORIES:On Air Event
ATTACH;FMTTYPE=image/jpeg:https://www.n1fd.org/wp-content/uploads/2019/09/Jamey-and-Abby-Operating-as-N1T-on-our-HF-GOTA.jpg
ORGANIZER;CN="Nashua Area Radio Society":MAILTO:activities@n1fd.org
GEO:43.1938516;-71.5723953
END:VEVENT
BEGIN:VEVENT
DTSTART;TZID=America/New_York:20230820T203000
DTEND;TZID=America/New_York:20230820T210000
DTSTAMP:20260421T213555
CREATED:20210811T173624Z
LAST-MODIFIED:20210811T175221Z
UID:10000663-1692563400-1692565200@www.n1fd.org
SUMMARY:Weekly 10m HF Chat Net
DESCRIPTION:Our club holds a 10m HF Chat Net at 8:30 pm each Sunday on 28.480 MHz using SSB phone mode. All Amateurs are welcome to join in the fun. We post updates about the operation of our HF Chat Net in the On The Air Forum on our website.
URL:https://www.n1fd.org/event/weekly-10m-hf-chat-net/2023-08-20/
LOCATION:On The Air Event\, NH\, United States
CATEGORIES:On Air Event
ATTACH;FMTTYPE=image/jpeg:https://www.n1fd.org/wp-content/uploads/2019/09/Jamey-and-Abby-Operating-as-N1T-on-our-HF-GOTA.jpg
ORGANIZER;CN="Nashua Area Radio Society":MAILTO:activities@n1fd.org
GEO:43.1938516;-71.5723953
END:VEVENT
BEGIN:VEVENT
DTSTART;TZID=America/New_York:20230813T203000
DTEND;TZID=America/New_York:20230813T210000
DTSTAMP:20260421T213555
CREATED:20210811T173624Z
LAST-MODIFIED:20210811T175221Z
UID:10000662-1691958600-1691960400@www.n1fd.org
SUMMARY:Weekly 10m HF Chat Net
DESCRIPTION:Our club holds a 10m HF Chat Net at 8:30 pm each Sunday on 28.480 MHz using SSB phone mode. All Amateurs are welcome to join in the fun. We post updates about the operation of our HF Chat Net in the On The Air Forum on our website.
URL:https://www.n1fd.org/event/weekly-10m-hf-chat-net/2023-08-13/
LOCATION:On The Air Event\, NH\, United States
CATEGORIES:On Air Event
ATTACH;FMTTYPE=image/jpeg:https://www.n1fd.org/wp-content/uploads/2019/09/Jamey-and-Abby-Operating-as-N1T-on-our-HF-GOTA.jpg
ORGANIZER;CN="Nashua Area Radio Society":MAILTO:activities@n1fd.org
GEO:43.1938516;-71.5723953
END:VEVENT
BEGIN:VEVENT
DTSTART;TZID=America/New_York:20230806T203000
DTEND;TZID=America/New_York:20230806T210000
DTSTAMP:20260421T213555
CREATED:20210811T173624Z
LAST-MODIFIED:20210811T175221Z
UID:10000661-1691353800-1691355600@www.n1fd.org
SUMMARY:Weekly 10m HF Chat Net
DESCRIPTION:Our club holds a 10m HF Chat Net at 8:30 pm each Sunday on 28.480 MHz using SSB phone mode. All Amateurs are welcome to join in the fun. We post updates about the operation of our HF Chat Net in the On The Air Forum on our website.
URL:https://www.n1fd.org/event/weekly-10m-hf-chat-net/2023-08-06/
LOCATION:On The Air Event\, NH\, United States
CATEGORIES:On Air Event
ATTACH;FMTTYPE=image/jpeg:https://www.n1fd.org/wp-content/uploads/2019/09/Jamey-and-Abby-Operating-as-N1T-on-our-HF-GOTA.jpg
ORGANIZER;CN="Nashua Area Radio Society":MAILTO:activities@n1fd.org
GEO:43.1938516;-71.5723953
END:VEVENT
BEGIN:VEVENT
DTSTART;TZID=America/New_York:20230730T203000
DTEND;TZID=America/New_York:20230730T210000
DTSTAMP:20260421T213555
CREATED:20210811T173624Z
LAST-MODIFIED:20210811T175221Z
UID:10000660-1690749000-1690750800@www.n1fd.org
SUMMARY:Weekly 10m HF Chat Net
DESCRIPTION:Our club holds a 10m HF Chat Net at 8:30 pm each Sunday on 28.480 MHz using SSB phone mode. All Amateurs are welcome to join in the fun. We post updates about the operation of our HF Chat Net in the On The Air Forum on our website.
URL:https://www.n1fd.org/event/weekly-10m-hf-chat-net/2023-07-30/
LOCATION:On The Air Event\, NH\, United States
CATEGORIES:On Air Event
ATTACH;FMTTYPE=image/jpeg:https://www.n1fd.org/wp-content/uploads/2019/09/Jamey-and-Abby-Operating-as-N1T-on-our-HF-GOTA.jpg
ORGANIZER;CN="Nashua Area Radio Society":MAILTO:activities@n1fd.org
GEO:43.1938516;-71.5723953
END:VEVENT
BEGIN:VEVENT
DTSTART;TZID=America/New_York:20230723T203000
DTEND;TZID=America/New_York:20230723T210000
DTSTAMP:20260421T213555
CREATED:20210811T173624Z
LAST-MODIFIED:20210811T175221Z
UID:10000659-1690144200-1690146000@www.n1fd.org
SUMMARY:Weekly 10m HF Chat Net
DESCRIPTION:Our club holds a 10m HF Chat Net at 8:30 pm each Sunday on 28.480 MHz using SSB phone mode. All Amateurs are welcome to join in the fun. We post updates about the operation of our HF Chat Net in the On The Air Forum on our website.
URL:https://www.n1fd.org/event/weekly-10m-hf-chat-net/2023-07-23/
LOCATION:On The Air Event\, NH\, United States
CATEGORIES:On Air Event
ATTACH;FMTTYPE=image/jpeg:https://www.n1fd.org/wp-content/uploads/2019/09/Jamey-and-Abby-Operating-as-N1T-on-our-HF-GOTA.jpg
ORGANIZER;CN="Nashua Area Radio Society":MAILTO:activities@n1fd.org
GEO:43.1938516;-71.5723953
END:VEVENT
BEGIN:VEVENT
DTSTART;TZID=America/New_York:20230716T203000
DTEND;TZID=America/New_York:20230716T210000
DTSTAMP:20260421T213555
CREATED:20210811T173624Z
LAST-MODIFIED:20210811T175221Z
UID:10000658-1689539400-1689541200@www.n1fd.org
SUMMARY:Weekly 10m HF Chat Net
DESCRIPTION:Our club holds a 10m HF Chat Net at 8:30 pm each Sunday on 28.480 MHz using SSB phone mode. All Amateurs are welcome to join in the fun. We post updates about the operation of our HF Chat Net in the On The Air Forum on our website.
URL:https://www.n1fd.org/event/weekly-10m-hf-chat-net/2023-07-16/
LOCATION:On The Air Event\, NH\, United States
CATEGORIES:On Air Event
ATTACH;FMTTYPE=image/jpeg:https://www.n1fd.org/wp-content/uploads/2019/09/Jamey-and-Abby-Operating-as-N1T-on-our-HF-GOTA.jpg
ORGANIZER;CN="Nashua Area Radio Society":MAILTO:activities@n1fd.org
GEO:43.1938516;-71.5723953
END:VEVENT
END:VCALENDAR