BEGIN:VCALENDAR
VERSION:2.0
PRODID:-//Nashua Area Radio Society - ECPv6.15.20//NONSGML v1.0//EN
CALSCALE:GREGORIAN
METHOD:PUBLISH
X-ORIGINAL-URL:https://www.n1fd.org
X-WR-CALDESC:Events for Nashua Area Radio Society
REFRESH-INTERVAL;VALUE=DURATION:PT1H
X-Robots-Tag:noindex
X-PUBLISHED-TTL:PT1H
BEGIN:VTIMEZONE
TZID:America/New_York
BEGIN:DAYLIGHT
TZOFFSETFROM:-0500
TZOFFSETTO:-0400
TZNAME:EDT
DTSTART:20240310T070000
END:DAYLIGHT
BEGIN:STANDARD
TZOFFSETFROM:-0400
TZOFFSETTO:-0500
TZNAME:EST
DTSTART:20241103T060000
END:STANDARD
BEGIN:DAYLIGHT
TZOFFSETFROM:-0500
TZOFFSETTO:-0400
TZNAME:EDT
DTSTART:20250309T070000
END:DAYLIGHT
BEGIN:STANDARD
TZOFFSETFROM:-0400
TZOFFSETTO:-0500
TZNAME:EST
DTSTART:20251102T060000
END:STANDARD
BEGIN:DAYLIGHT
TZOFFSETFROM:-0500
TZOFFSETTO:-0400
TZNAME:EDT
DTSTART:20260308T070000
END:DAYLIGHT
BEGIN:STANDARD
TZOFFSETFROM:-0400
TZOFFSETTO:-0500
TZNAME:EST
DTSTART:20261101T060000
END:STANDARD
END:VTIMEZONE
BEGIN:VEVENT
DTSTART;TZID=America/New_York:20250222T083000
DTEND;TZID=America/New_York:20250222T100000
DTSTAMP:20260424T061700
CREATED:20250331T113954Z
LAST-MODIFIED:20250331T113954Z
UID:10002198-1740213000-1740218400@www.n1fd.org
SUMMARY:Club Breakfast
DESCRIPTION:MaryAnn’s Diner\,   4 Cobbetts Pond Rd\,  Windham\, NH 03087
URL:https://www.n1fd.org/event/club-breakfast-3/
LOCATION:MaryAnn’s Diner\, 4 Cobbetts Pond Rd\, Windham\, NH\, 03087\, United States
CATEGORIES:Breakfast
ATTACH;FMTTYPE=image/jpeg:https://www.n1fd.org/wp-content/uploads/2025/02/Mary-Anns-diner-Windham.jpeg
ORGANIZER;CN="Nashua Area Radio Society":MAILTO:activities@n1fd.org
GEO:42.792285;-71.3051048
X-APPLE-STRUCTURED-LOCATION;VALUE=URI;X-ADDRESS=MaryAnn’s Diner 4 Cobbetts Pond Rd Windham NH 03087 United States;X-APPLE-RADIUS=500;X-TITLE=4 Cobbetts Pond Rd:geo:-71.3051048,42.792285
END:VEVENT
BEGIN:VEVENT
DTSTART;TZID=America/New_York:20250222T083000
DTEND;TZID=America/New_York:20250222T100000
DTSTAMP:20260424T061700
CREATED:20250219T183242Z
LAST-MODIFIED:20250219T183242Z
UID:10001695-1740213000-1740218400@www.n1fd.org
SUMMARY:Club Breakfast
DESCRIPTION:MaryAnn’s Diner\,   4 Cobbetts Pond Rd\,  Windham\, NH 03087
URL:https://www.n1fd.org/event/club-breakfast-2/
LOCATION:MaryAnn’s Diner\, 4 Cobbetts Pond Rd\, Windham\, NH\, 03087\, United States
CATEGORIES:Breakfast
ATTACH;FMTTYPE=image/jpeg:https://www.n1fd.org/wp-content/uploads/2025/02/Mary-Anns-diner-Windham.jpeg
ORGANIZER;CN="Nashua Area Radio Society":MAILTO:activities@n1fd.org
GEO:42.792285;-71.3051048
X-APPLE-STRUCTURED-LOCATION;VALUE=URI;X-ADDRESS=MaryAnn’s Diner 4 Cobbetts Pond Rd Windham NH 03087 United States;X-APPLE-RADIUS=500;X-TITLE=4 Cobbetts Pond Rd:geo:-71.3051048,42.792285
END:VEVENT
END:VCALENDAR