BEGIN:VCALENDAR
VERSION:2.0
PRODID:-//Nashua Area Radio Society - ECPv6.15.20//NONSGML v1.0//EN
CALSCALE:GREGORIAN
METHOD:PUBLISH
X-ORIGINAL-URL:https://www.n1fd.org
X-WR-CALDESC:Events for Nashua Area Radio Society
REFRESH-INTERVAL;VALUE=DURATION:PT1H
X-Robots-Tag:noindex
X-PUBLISHED-TTL:PT1H
BEGIN:VTIMEZONE
TZID:America/New_York
BEGIN:DAYLIGHT
TZOFFSETFROM:-0500
TZOFFSETTO:-0400
TZNAME:EDT
DTSTART:20250309T070000
END:DAYLIGHT
BEGIN:STANDARD
TZOFFSETFROM:-0400
TZOFFSETTO:-0500
TZNAME:EST
DTSTART:20251102T060000
END:STANDARD
BEGIN:DAYLIGHT
TZOFFSETFROM:-0500
TZOFFSETTO:-0400
TZNAME:EDT
DTSTART:20260308T070000
END:DAYLIGHT
BEGIN:STANDARD
TZOFFSETFROM:-0400
TZOFFSETTO:-0500
TZNAME:EST
DTSTART:20261101T060000
END:STANDARD
BEGIN:DAYLIGHT
TZOFFSETFROM:-0500
TZOFFSETTO:-0400
TZNAME:EDT
DTSTART:20270314T070000
END:DAYLIGHT
BEGIN:STANDARD
TZOFFSETFROM:-0400
TZOFFSETTO:-0500
TZNAME:EST
DTSTART:20271107T060000
END:STANDARD
END:VTIMEZONE
BEGIN:VEVENT
DTSTART;TZID=America/New_York:20260117T090000
DTEND;TZID=America/New_York:20260118T010000
DTSTAMP:20260425T120520
CREATED:20251116T201614Z
LAST-MODIFIED:20251116T201614Z
UID:10002529-1768640400-1768698000@www.n1fd.org
SUMMARY:N1FD WFD Ops Enter the North American QSO Party from AB1OC
DESCRIPTION:The contest starts at 1:00 p.m. EST on Saturday and runs until 1:00 a.m. EST on Sunday. \nWe’ll do some practice operating before the contest begins\, and help everyone get oriented to using our station \nDetails and scheduling to follow.
URL:https://www.n1fd.org/event/n1fd-wfd-ops-enter-the-north-american-qso-party-from-ab1oc/
LOCATION:AB1OC/AB1QB QTH\, 39 Baldwin Lane\, Hollis\, NH\, 03049\, United States
ATTACH;FMTTYPE=image/jpeg:https://www.n1fd.org/wp-content/uploads/2016/07/1-RR-1-e1485711931247.jpg
ORGANIZER;CN="Nashua Area Radio Society":MAILTO:activities@n1fd.org
GEO:42.7130746;-71.5902367
X-APPLE-STRUCTURED-LOCATION;VALUE=URI;X-ADDRESS=AB1OC/AB1QB QTH 39 Baldwin Lane Hollis NH 03049 United States;X-APPLE-RADIUS=500;X-TITLE=39 Baldwin Lane:geo:-71.5902367,42.7130746
END:VEVENT
BEGIN:VEVENT
DTSTART;TZID=America/New_York:20260123T110000
DTEND;TZID=America/New_York:20260123T170000
DTSTAMP:20260425T120520
CREATED:20251117T131229Z
LAST-MODIFIED:20251117T131229Z
UID:10002532-1769166000-1769187600@www.n1fd.org
SUMMARY:Final Winter Field Day Setup at AB1OC
DESCRIPTION:Final WFD setup at AB1OC (Brian and Jack bring antennas\, we’ll need help with Station and SW Testing as well)
URL:https://www.n1fd.org/event/final-winter-field-day-setup-at-ab1oc/
LOCATION:AB1OC/AB1QB QTH\, 39 Baldwin Lane\, Hollis\, NH\, 03049\, United States
ATTACH;FMTTYPE=image/png:https://www.n1fd.org/wp-content/uploads/2025/11/wfda_logo.png
ORGANIZER;CN="Nashua Area Radio Society":MAILTO:activities@n1fd.org
GEO:42.7130746;-71.5902367
X-APPLE-STRUCTURED-LOCATION;VALUE=URI;X-ADDRESS=AB1OC/AB1QB QTH 39 Baldwin Lane Hollis NH 03049 United States;X-APPLE-RADIUS=500;X-TITLE=39 Baldwin Lane:geo:-71.5902367,42.7130746
END:VEVENT
BEGIN:VEVENT
DTSTART;TZID=America/New_York:20260124T110000
DTEND;TZID=America/New_York:20260125T170000
DTSTAMP:20260425T120520
CREATED:20251116T204054Z
LAST-MODIFIED:20251116T204230Z
UID:10002531-1769252400-1769360400@www.n1fd.org
SUMMARY:Winter Field Day
DESCRIPTION:Winter Field Day will be held on Saturday\, January 24th and Sunday\, January 25th.  We will be operating from AB1OC and AB1QB’s QTH as a 2H or 3H station.  For the most up-to-date information\, check the Field Day Forum.
URL:https://www.n1fd.org/event/winter-field-day/
LOCATION:AB1OC/AB1QB QTH\, 39 Baldwin Lane\, Hollis\, NH\, 03049\, United States
ATTACH;FMTTYPE=image/png:https://www.n1fd.org/wp-content/uploads/2025/11/wfda_logo.png
ORGANIZER;CN="Nashua Area Radio Society":MAILTO:activities@n1fd.org
GEO:42.7130746;-71.5902367
X-APPLE-STRUCTURED-LOCATION;VALUE=URI;X-ADDRESS=AB1OC/AB1QB QTH 39 Baldwin Lane Hollis NH 03049 United States;X-APPLE-RADIUS=500;X-TITLE=39 Baldwin Lane:geo:-71.5902367,42.7130746
END:VEVENT
END:VCALENDAR