BEGIN:VCALENDAR
VERSION:2.0
PRODID:-//Nashua Area Radio Society - ECPv6.15.20//NONSGML v1.0//EN
CALSCALE:GREGORIAN
METHOD:PUBLISH
X-ORIGINAL-URL:https://www.n1fd.org
X-WR-CALDESC:Events for Nashua Area Radio Society
REFRESH-INTERVAL;VALUE=DURATION:PT1H
X-Robots-Tag:noindex
X-PUBLISHED-TTL:PT1H
BEGIN:VTIMEZONE
TZID:America/New_York
BEGIN:DAYLIGHT
TZOFFSETFROM:-0500
TZOFFSETTO:-0400
TZNAME:EDT
DTSTART:20240310T070000
END:DAYLIGHT
BEGIN:STANDARD
TZOFFSETFROM:-0400
TZOFFSETTO:-0500
TZNAME:EST
DTSTART:20241103T060000
END:STANDARD
BEGIN:DAYLIGHT
TZOFFSETFROM:-0500
TZOFFSETTO:-0400
TZNAME:EDT
DTSTART:20250309T070000
END:DAYLIGHT
BEGIN:STANDARD
TZOFFSETFROM:-0400
TZOFFSETTO:-0500
TZNAME:EST
DTSTART:20251102T060000
END:STANDARD
BEGIN:DAYLIGHT
TZOFFSETFROM:-0500
TZOFFSETTO:-0400
TZNAME:EDT
DTSTART:20260308T070000
END:DAYLIGHT
BEGIN:STANDARD
TZOFFSETFROM:-0400
TZOFFSETTO:-0500
TZNAME:EST
DTSTART:20261101T060000
END:STANDARD
END:VTIMEZONE
BEGIN:VEVENT
DTSTART;TZID=America/New_York:20250627T090000
DTEND;TZID=America/New_York:20250629T155900
DTSTAMP:20260425T080245
CREATED:20250407T193812Z
LAST-MODIFIED:20250407T193812Z
UID:10002201-1751014800-1751212740@www.n1fd.org
SUMMARY:Summer Field Day 2025
DESCRIPTION:Join us for the 2025 Summer Field Day!  This is a great opportunity for new and experienced HAMS or anyone curious about Amateur Radio to watch\, learn and get on the air!  There will be many activities\, food and fun.  See how Amateur radio operators can help communities during an emergency.We will have multiple towers operating on several bands/frequencies and satellite communications.  You can even send an email over the radio!   Think you have what it takes to track a radio beacon?  Try our fox hunt (radio direction finding)\, which is fun for kids and adults! \nMore information can be found at the  Official 2025 Summer Field Day Rules. \nWe hope to see you there!
URL:https://www.n1fd.org/event/summer-field-day-2025/
LOCATION:Hudson Memorial School\, 1 Memorial Drive\, Hudson\, NH\, 03051\, United States
CATEGORIES:Field Day
ATTACH;FMTTYPE=image/jpeg:https://www.n1fd.org/wp-content/uploads/2025/04/Field-Day-2023.jpg_compressed.jpg
ORGANIZER;CN="Nashua Area Radio Society":MAILTO:activities@n1fd.org
GEO:42.7628546;-71.4245559
X-APPLE-STRUCTURED-LOCATION;VALUE=URI;X-ADDRESS=Hudson Memorial School 1 Memorial Drive Hudson NH 03051 United States;X-APPLE-RADIUS=500;X-TITLE=1 Memorial Drive:geo:-71.4245559,42.7628546
END:VEVENT
BEGIN:VEVENT
DTSTART;TZID=America/New_York:20250701T190000
DTEND;TZID=America/New_York:20250701T210000
DTSTAMP:20260425T080245
CREATED:20210811T180435Z
LAST-MODIFIED:20250219T204548Z
UID:10001712-1751396400-1751403600@www.n1fd.org
SUMMARY:Membership Meeting
DESCRIPTION:NOTE: We are currently meeting online via Zoom. You can find the links to our meetings on our home page.  Don’t miss it! \nOur Membership Meetings feature speakers on topics of interest to all members. For information on the topic and speaker for our next meeting\, see our Membership Meetings page.
URL:https://www.n1fd.org/event/membership-meetings/2025-07-01/
LOCATION:Online Via Zoom\, NH\, 03049\, United States
CATEGORIES:Membership Meeting
ATTACH;FMTTYPE=image/jpeg:https://www.n1fd.org/wp-content/uploads/2016/09/Group.jpg
ORGANIZER;CN="Nashua Area Radio Society":MAILTO:activities@n1fd.org
GEO:43.1938516;-71.5723953
END:VEVENT
END:VCALENDAR