BEGIN:VCALENDAR
VERSION:2.0
PRODID:-//Nashua Area Radio Society - ECPv6.15.20//NONSGML v1.0//EN
CALSCALE:GREGORIAN
METHOD:PUBLISH
X-WR-CALNAME:Nashua Area Radio Society
X-ORIGINAL-URL:https://www.n1fd.org
X-WR-CALDESC:Events for Nashua Area Radio Society
REFRESH-INTERVAL;VALUE=DURATION:PT1H
X-Robots-Tag:noindex
X-PUBLISHED-TTL:PT1H
BEGIN:VTIMEZONE
TZID:America/New_York
BEGIN:DAYLIGHT
TZOFFSETFROM:-0500
TZOFFSETTO:-0400
TZNAME:EDT
DTSTART:20200308T070000
END:DAYLIGHT
BEGIN:STANDARD
TZOFFSETFROM:-0400
TZOFFSETTO:-0500
TZNAME:EST
DTSTART:20201101T060000
END:STANDARD
BEGIN:DAYLIGHT
TZOFFSETFROM:-0500
TZOFFSETTO:-0400
TZNAME:EDT
DTSTART:20210314T070000
END:DAYLIGHT
BEGIN:STANDARD
TZOFFSETFROM:-0400
TZOFFSETTO:-0500
TZNAME:EST
DTSTART:20211107T060000
END:STANDARD
BEGIN:DAYLIGHT
TZOFFSETFROM:-0500
TZOFFSETTO:-0400
TZNAME:EDT
DTSTART:20220313T070000
END:DAYLIGHT
BEGIN:STANDARD
TZOFFSETFROM:-0400
TZOFFSETTO:-0500
TZNAME:EST
DTSTART:20221106T060000
END:STANDARD
END:VTIMEZONE
BEGIN:VEVENT
DTSTART;VALUE=DATE:20210918
DTEND;VALUE=DATE:20210920
DTSTAMP:20260420T151814
CREATED:20210816T223804Z
LAST-MODIFIED:20210816T223804Z
UID:10000379-1631923200-1632095999@www.n1fd.org
SUMMARY:Technician License Class
DESCRIPTION:Our Technician License Class will be held online.  Hours are 8:00 am to 6:00 pm on Saturday and we will start at 8:00 am on Sunday.  The License exam sessions will start at 4:00 pm. \nFor more information\, see https://www.n1fd.org/amateur-radio-license-class/
URL:https://www.n1fd.org/event/technician-license-class/
LOCATION:Online Via Zoom\, NH\, 03049\, United States
ATTACH;FMTTYPE=image/jpeg:https://www.n1fd.org/wp-content/uploads/2020/10/Class-Zoom-scaled.jpg
ORGANIZER;CN="Nashua Area Radio Society":MAILTO:activities@n1fd.org
GEO:43.1938516;-71.5723953
END:VEVENT
BEGIN:VEVENT
DTSTART;TZID=America/New_York:20210919T193000
DTEND;TZID=America/New_York:20210919T200000
DTSTAMP:20260420T151814
CREATED:20210811T173131Z
LAST-MODIFIED:20210811T175049Z
UID:10000433-1632079800-1632081600@www.n1fd.org
SUMMARY:Weekly Repeater Chat Net
DESCRIPTION:Our weekly repeater net is held on Sunday Evenings at 7:30 pm.   We will use a round-robin chat format – discussion topics will change each week.  This is a great opportunity for all hams and Nashua Area Radio Society members to get on the air.  EchoLink is available for those that don’t yet have a rig – search for N1IMO-R.    Here is the repeater information: \n \nYou can also view the access information on the N1IMN-N1IMO site. We post a list of stations that check-in to each of our nets in the On The Air Forum here on our website.
URL:https://www.n1fd.org/event/weekly-repeater-chat-net/2021-09-19/
LOCATION:N1IMO Repeater System\, NH\, United States
CATEGORIES:On Air Event
ATTACH;FMTTYPE=image/png:https://www.n1fd.org/wp-content/uploads/2017/09/N1IMO-2-2.png
ORGANIZER;CN="Nashua Area Radio Society":MAILTO:activities@n1fd.org
GEO:43.1938516;-71.5723953
END:VEVENT
BEGIN:VEVENT
DTSTART;TZID=America/New_York:20210919T203000
DTEND;TZID=America/New_York:20210919T210000
DTSTAMP:20260420T151814
CREATED:20210811T173624Z
LAST-MODIFIED:20210811T175221Z
UID:10000563-1632083400-1632085200@www.n1fd.org
SUMMARY:Weekly 10m HF Chat Net
DESCRIPTION:Our club holds a 10m HF Chat Net at 8:30 pm each Sunday on 28.480 MHz using SSB phone mode. All Amateurs are welcome to join in the fun. We post updates about the operation of our HF Chat Net in the On The Air Forum on our website.
URL:https://www.n1fd.org/event/weekly-10m-hf-chat-net/2021-09-19/
LOCATION:On The Air Event\, NH\, United States
CATEGORIES:On Air Event
ATTACH;FMTTYPE=image/jpeg:https://www.n1fd.org/wp-content/uploads/2019/09/Jamey-and-Abby-Operating-as-N1T-on-our-HF-GOTA.jpg
ORGANIZER;CN="Nashua Area Radio Society":MAILTO:activities@n1fd.org
GEO:43.1938516;-71.5723953
END:VEVENT
BEGIN:VEVENT
DTSTART;TZID=America/New_York:20210925T103000
DTEND;TZID=America/New_York:20210925T170000
DTSTAMP:20260420T151814
CREATED:20210816T231119Z
LAST-MODIFIED:20210816T231149Z
UID:10000382-1632565800-1632589200@www.n1fd.org
SUMMARY:SOTA/POTA at Kearsarge Mountain
DESCRIPTION:We will be holding a SOTA/POTA at Mount Kearsarge.  We will meet at the base of the auto road at Rollins State park 1066 Kearsarge Mountain Road Warner\, NH 03278
URL:https://www.n1fd.org/event/sota-post-at-kearsarge-mountain/
LOCATION:Mt. Kearsarge/Rollins State Park\, 1066 Kearsarge Mountain Road\, Warner\, NH\, United States
CATEGORIES:Other Activities
ATTACH;FMTTYPE=image/jpeg:https://www.n1fd.org/wp-content/uploads/2021/08/kearsarge2.jpg
ORGANIZER;CN="Nashua Area Radio Society":MAILTO:activities@n1fd.org
GEO:43.3472145;-71.8486011
X-APPLE-STRUCTURED-LOCATION;VALUE=URI;X-ADDRESS=Mt. Kearsarge/Rollins State Park 1066 Kearsarge Mountain Road Warner NH United States;X-APPLE-RADIUS=500;X-TITLE=1066 Kearsarge Mountain Road:geo:-71.8486011,43.3472145
END:VEVENT
BEGIN:VEVENT
DTSTART;TZID=America/New_York:20210926T193000
DTEND;TZID=America/New_York:20210926T200000
DTSTAMP:20260420T151814
CREATED:20210811T173131Z
LAST-MODIFIED:20210811T175049Z
UID:10000434-1632684600-1632686400@www.n1fd.org
SUMMARY:Weekly Repeater Chat Net
DESCRIPTION:Our weekly repeater net is held on Sunday Evenings at 7:30 pm.   We will use a round-robin chat format – discussion topics will change each week.  This is a great opportunity for all hams and Nashua Area Radio Society members to get on the air.  EchoLink is available for those that don’t yet have a rig – search for N1IMO-R.    Here is the repeater information: \n \nYou can also view the access information on the N1IMN-N1IMO site. We post a list of stations that check-in to each of our nets in the On The Air Forum here on our website.
URL:https://www.n1fd.org/event/weekly-repeater-chat-net/2021-09-26/
LOCATION:N1IMO Repeater System\, NH\, United States
CATEGORIES:On Air Event
ATTACH;FMTTYPE=image/png:https://www.n1fd.org/wp-content/uploads/2017/09/N1IMO-2-2.png
ORGANIZER;CN="Nashua Area Radio Society":MAILTO:activities@n1fd.org
GEO:43.1938516;-71.5723953
END:VEVENT
BEGIN:VEVENT
DTSTART;TZID=America/New_York:20210926T203000
DTEND;TZID=America/New_York:20210926T210000
DTSTAMP:20260420T151814
CREATED:20210811T173624Z
LAST-MODIFIED:20210811T175221Z
UID:10000564-1632688200-1632690000@www.n1fd.org
SUMMARY:Weekly 10m HF Chat Net
DESCRIPTION:Our club holds a 10m HF Chat Net at 8:30 pm each Sunday on 28.480 MHz using SSB phone mode. All Amateurs are welcome to join in the fun. We post updates about the operation of our HF Chat Net in the On The Air Forum on our website.
URL:https://www.n1fd.org/event/weekly-10m-hf-chat-net/2021-09-26/
LOCATION:On The Air Event\, NH\, United States
CATEGORIES:On Air Event
ATTACH;FMTTYPE=image/jpeg:https://www.n1fd.org/wp-content/uploads/2019/09/Jamey-and-Abby-Operating-as-N1T-on-our-HF-GOTA.jpg
ORGANIZER;CN="Nashua Area Radio Society":MAILTO:activities@n1fd.org
GEO:43.1938516;-71.5723953
END:VEVENT
BEGIN:VEVENT
DTSTART;TZID=America/New_York:20210928T080000
DTEND;TZID=America/New_York:20210928T170000
DTSTAMP:20260420T151814
CREATED:20210811T174702Z
LAST-MODIFIED:20220502T113029Z
UID:10000690-1632816000-1632848400@www.n1fd.org
SUMMARY:Executive Committee Meeting
DESCRIPTION:The Nashua Area Radio Society Executive Committee meets monthly. Our  Executive Committee Meetings are open to all members. *** Our meetings are held on Zoom – contact ab1qb@arrl.net for the link ***.
URL:https://www.n1fd.org/event/executive-committee-meeting/2021-09-28/
LOCATION:Online Via Zoom\, NH\, 03049\, United States
CATEGORIES:Executive Committee Meetings
ATTACH;FMTTYPE=image/jpeg:https://www.n1fd.org/wp-content/uploads/2016/03/Board-of-Directors.jpg
ORGANIZER;CN="Nashua Area Radio Society":MAILTO:activities@n1fd.org
GEO:43.1938516;-71.5723953
END:VEVENT
END:VCALENDAR