BEGIN:VCALENDAR
VERSION:2.0
PRODID:-//Nashua Area Radio Society - ECPv6.15.20//NONSGML v1.0//EN
CALSCALE:GREGORIAN
METHOD:PUBLISH
X-WR-CALNAME:Nashua Area Radio Society
X-ORIGINAL-URL:https://www.n1fd.org
X-WR-CALDESC:Events for Nashua Area Radio Society
REFRESH-INTERVAL;VALUE=DURATION:PT1H
X-Robots-Tag:noindex
X-PUBLISHED-TTL:PT1H
BEGIN:VTIMEZONE
TZID:America/New_York
BEGIN:DAYLIGHT
TZOFFSETFROM:-0500
TZOFFSETTO:-0400
TZNAME:EDT
DTSTART:20200308T070000
END:DAYLIGHT
BEGIN:STANDARD
TZOFFSETFROM:-0400
TZOFFSETTO:-0500
TZNAME:EST
DTSTART:20201101T060000
END:STANDARD
BEGIN:DAYLIGHT
TZOFFSETFROM:-0500
TZOFFSETTO:-0400
TZNAME:EDT
DTSTART:20210314T070000
END:DAYLIGHT
BEGIN:STANDARD
TZOFFSETFROM:-0400
TZOFFSETTO:-0500
TZNAME:EST
DTSTART:20211107T060000
END:STANDARD
BEGIN:DAYLIGHT
TZOFFSETFROM:-0500
TZOFFSETTO:-0400
TZNAME:EDT
DTSTART:20220313T070000
END:DAYLIGHT
BEGIN:STANDARD
TZOFFSETFROM:-0400
TZOFFSETTO:-0500
TZNAME:EST
DTSTART:20221106T060000
END:STANDARD
BEGIN:DAYLIGHT
TZOFFSETFROM:-0500
TZOFFSETTO:-0400
TZNAME:EDT
DTSTART:20230312T070000
END:DAYLIGHT
BEGIN:STANDARD
TZOFFSETFROM:-0400
TZOFFSETTO:-0500
TZNAME:EST
DTSTART:20231105T060000
END:STANDARD
BEGIN:DAYLIGHT
TZOFFSETFROM:-0500
TZOFFSETTO:-0400
TZNAME:EDT
DTSTART:20240310T070000
END:DAYLIGHT
BEGIN:STANDARD
TZOFFSETFROM:-0400
TZOFFSETTO:-0500
TZNAME:EST
DTSTART:20241103T060000
END:STANDARD
BEGIN:DAYLIGHT
TZOFFSETFROM:-0500
TZOFFSETTO:-0400
TZNAME:EDT
DTSTART:20250309T070000
END:DAYLIGHT
BEGIN:STANDARD
TZOFFSETFROM:-0400
TZOFFSETTO:-0500
TZNAME:EST
DTSTART:20251102T060000
END:STANDARD
BEGIN:DAYLIGHT
TZOFFSETFROM:-0500
TZOFFSETTO:-0400
TZNAME:EDT
DTSTART:20260308T070000
END:DAYLIGHT
BEGIN:STANDARD
TZOFFSETFROM:-0400
TZOFFSETTO:-0500
TZNAME:EST
DTSTART:20261101T060000
END:STANDARD
END:VTIMEZONE
BEGIN:VEVENT
DTSTART;TZID=America/New_York:20250413T080000
DTEND;TZID=America/New_York:20250413T180000
DTSTAMP:20260424T024842
CREATED:20210816T224824Z
LAST-MODIFIED:20250219T213005Z
UID:10001832-1744531200-1744567200@www.n1fd.org
SUMMARY:Extra License Class
DESCRIPTION:Our Extra License Class will be held online.  Hours are 8:00 am to 6:00 pm on Friday and Saturday and we will start at 8:00 am on Sunday.  The License exam sessions will start at 4:00 pm. \nFor more information\, see https://www.n1fd.org/amateur-radio-license-class/
URL:https://www.n1fd.org/event/extra-license-class/2025-04-13/
LOCATION:Online Via Zoom\, NH\, 03049\, United States
CATEGORIES:License Classes and Test Sessions
ATTACH;FMTTYPE=image/jpeg:https://www.n1fd.org/wp-content/uploads/2017/05/Abby-and-Jamey-e1493753390606.jpg
ORGANIZER;CN="Nashua Area Radio Society":MAILTO:activities@n1fd.org
GEO:43.1938516;-71.5723953
END:VEVENT
BEGIN:VEVENT
DTSTART;TZID=America/New_York:20250412T080000
DTEND;TZID=America/New_York:20250412T180000
DTSTAMP:20260424T024842
CREATED:20210816T224824Z
LAST-MODIFIED:20250219T213005Z
UID:10001831-1744444800-1744480800@www.n1fd.org
SUMMARY:Extra License Class
DESCRIPTION:Our Extra License Class will be held online.  Hours are 8:00 am to 6:00 pm on Friday and Saturday and we will start at 8:00 am on Sunday.  The License exam sessions will start at 4:00 pm. \nFor more information\, see https://www.n1fd.org/amateur-radio-license-class/
URL:https://www.n1fd.org/event/extra-license-class/2025-04-12/
LOCATION:Online Via Zoom\, NH\, 03049\, United States
CATEGORIES:License Classes and Test Sessions
ATTACH;FMTTYPE=image/jpeg:https://www.n1fd.org/wp-content/uploads/2017/05/Abby-and-Jamey-e1493753390606.jpg
ORGANIZER;CN="Nashua Area Radio Society":MAILTO:activities@n1fd.org
GEO:43.1938516;-71.5723953
END:VEVENT
BEGIN:VEVENT
DTSTART;TZID=America/New_York:20250411T080000
DTEND;TZID=America/New_York:20250411T180000
DTSTAMP:20260424T024842
CREATED:20210816T224824Z
LAST-MODIFIED:20250219T213005Z
UID:10001830-1744358400-1744394400@www.n1fd.org
SUMMARY:Extra License Class
DESCRIPTION:Our Extra License Class will be held online.  Hours are 8:00 am to 6:00 pm on Friday and Saturday and we will start at 8:00 am on Sunday.  The License exam sessions will start at 4:00 pm. \nFor more information\, see https://www.n1fd.org/amateur-radio-license-class/
URL:https://www.n1fd.org/event/extra-license-class/2025-04-11/
LOCATION:Online Via Zoom\, NH\, 03049\, United States
CATEGORIES:License Classes and Test Sessions
ATTACH;FMTTYPE=image/jpeg:https://www.n1fd.org/wp-content/uploads/2017/05/Abby-and-Jamey-e1493753390606.jpg
ORGANIZER;CN="Nashua Area Radio Society":MAILTO:activities@n1fd.org
GEO:43.1938516;-71.5723953
END:VEVENT
BEGIN:VEVENT
DTSTART;TZID=America/New_York:20250309T080000
DTEND;TZID=America/New_York:20250309T180000
DTSTAMP:20260424T024842
CREATED:20210816T224556Z
LAST-MODIFIED:20250219T211916Z
UID:10001829-1741507200-1741543200@www.n1fd.org
SUMMARY:General License Class
DESCRIPTION:Our General License Class will be held online.  Hours are 8:00 am to 6:00 pm on Saturday and we will start at 8:00 am on Sunday.  The License exam sessions will start at 4:00 pm. \nFor more information\, see https://www.n1fd.org/amateur-radio-license-class/
URL:https://www.n1fd.org/event/general-license-class/2025-03-09/
LOCATION:Online Via Zoom\, NH\, 03049\, United States
CATEGORIES:License Classes and Test Sessions
ATTACH;FMTTYPE=image/png:https://www.n1fd.org/wp-content/uploads/2021/05/Student-Tech-Class.png
ORGANIZER;CN="Nashua Area Radio Society":MAILTO:activities@n1fd.org
GEO:43.1938516;-71.5723953
END:VEVENT
BEGIN:VEVENT
DTSTART;TZID=America/New_York:20250308T080000
DTEND;TZID=America/New_York:20250308T180000
DTSTAMP:20260424T024842
CREATED:20210816T224556Z
LAST-MODIFIED:20250219T211916Z
UID:10001828-1741420800-1741456800@www.n1fd.org
SUMMARY:General License Class
DESCRIPTION:Our General License Class will be held online.  Hours are 8:00 am to 6:00 pm on Saturday and we will start at 8:00 am on Sunday.  The License exam sessions will start at 4:00 pm. \nFor more information\, see https://www.n1fd.org/amateur-radio-license-class/
URL:https://www.n1fd.org/event/general-license-class/2025-03-08/
LOCATION:Online Via Zoom\, NH\, 03049\, United States
CATEGORIES:License Classes and Test Sessions
ATTACH;FMTTYPE=image/png:https://www.n1fd.org/wp-content/uploads/2021/05/Student-Tech-Class.png
ORGANIZER;CN="Nashua Area Radio Society":MAILTO:activities@n1fd.org
GEO:43.1938516;-71.5723953
END:VEVENT
BEGIN:VEVENT
DTSTART;TZID=America/New_York:20210409T080000
DTEND;TZID=America/New_York:20210411T180000
DTSTAMP:20260424T024842
CREATED:20190125T172057Z
LAST-MODIFIED:20210811T182906Z
UID:10000422-1617955200-1618164000@www.n1fd.org
SUMMARY:Extra Licensing Training Class
DESCRIPTION:We will be offering a 3 day Extra License Training Class online via Zoom web conferencing.  We will hold an online exam for students in the class.  For more information including a link to register see https://www.n1fd.org/amateur-radio-license-class/
URL:https://www.n1fd.org/event/extra-licensing-training-class/
LOCATION:Online Via Zoom\, NH\, 03049\, United States
CATEGORIES:License Classes and Test Sessions
ATTACH;FMTTYPE=image/jpeg:https://www.n1fd.org/wp-content/uploads/2018/12/KE1NZY-AE.jpg
ORGANIZER;CN="Nashua Area Radio Society":MAILTO:activities@n1fd.org
GEO:43.1938516;-71.5723953
END:VEVENT
BEGIN:VEVENT
DTSTART;TZID=America/New_York:20210306T080000
DTEND;TZID=America/New_York:20210307T180000
DTSTAMP:20260424T024842
CREATED:20181230T153229Z
LAST-MODIFIED:20210811T182906Z
UID:10000421-1615017600-1615140000@www.n1fd.org
SUMMARY:General License Class
DESCRIPTION:We will hold a General License Class Online via Zoom Web Conferencing from 8 am – 6 pm  each day.  You can register at Register For An Amateur Radio License Class
URL:https://www.n1fd.org/event/general-license-class-2/
LOCATION:Online Via Zoom\, NH\, 03049\, United States
CATEGORIES:License Classes and Test Sessions
ATTACH;FMTTYPE=image/jpeg:https://www.n1fd.org/wp-content/uploads/2018/07/Summer-Tech-License-Class-Successful-Teacher-2.jpg
ORGANIZER;CN="Nashua Area Radio Society":MAILTO:activities@n1fd.org
GEO:43.1938516;-71.5723953
END:VEVENT
BEGIN:VEVENT
DTSTART;TZID=America/New_York:20210123T080000
DTEND;TZID=America/New_York:20210124T180000
DTSTAMP:20260424T024842
CREATED:20181230T152300Z
LAST-MODIFIED:20210811T182906Z
UID:10000420-1611388800-1611511200@www.n1fd.org
SUMMARY:Technician License Class
DESCRIPTION:We will hold a Technician License Class online via Zoom web conferencing from 8 am – 6 pm  each day.  You can register at Register For An Amateur Radio License Class \n 
URL:https://www.n1fd.org/event/technician-license-class-2/
LOCATION:Online Via Zoom\, NH\, 03049\, United States
CATEGORIES:License Classes and Test Sessions
ATTACH;FMTTYPE=image/jpeg:https://www.n1fd.org/wp-content/uploads/2018/03/DSC_2213.jpg
ORGANIZER;CN="Nashua Area Radio Society":MAILTO:activities@n1fd.org
GEO:43.1938516;-71.5723953
END:VEVENT
END:VCALENDAR